BEGIN:VCALENDAR
VERSION:2.0
PRODID:-//hacksw/handcal//NONSGML v1.0//EN
BEGIN:VEVENT
DTSTAMP:20240610T163000Z
DTSTART:20240610T163000Z
DTEND:20240610T183000Z
SUMMARY:Sitzung des Ausschusses für Verkehr, Bauwesen und Umwelt
END:VEVENT
END:VCALENDAR
