BEGIN:VCALENDAR
VERSION:2.0
PRODID:-//hacksw/handcal//NONSGML v1.0//EN
BEGIN:VEVENT
DTSTAMP:20210807T133000Z
DTSTART:20210807T133000Z
DTEND:20210807T133000Z
LOCATION:Start Mühle Rosa, Mühlenplatz, Gettorf, 24214, Deutschland
SUMMARY:Fahrradexkursion mit unserem Bürgermeister
END:VEVENT
END:VCALENDAR
